Workbook

Sheet Values
A1: Injection Timing calculation
A3: Intake valve open | B3: 367 | C3: crank deg BTDC | E3: Notes : | F3: 1- all units that are 'crank deg BTDC' are referenced to the TDC on compression stroke
A4: Intake valve close | B4: 127 | C4: crank deg BTDC | F4: 2- all offsets are relative to the 'intake valve open' angle
A5: Intake cam lobe center | B5: =B3-(B6/2) -> 247 | C5: crank deg BTDC
A6: Intake cam duration | B6: 240 | C6: crank deg
A7: Intake cam max lift | B7: 8.7 | C7: mm
E8: My intake cam specs :
A9: Offset injection timing (Columns 1) | B9: 3 | C9: crank deg
A10: Offset injection timing (Columns 2) | B10: 10 | C10: crank deg
A11: Offset injection timing (Columns 3) | B11: 14 | C11: crank deg
A12: Offset injection timing (Columns 4) | B12: 27 | C12: crank deg
A13: Offset injection timing (Columns 5) | B13: 28 | C13: crank deg
A14: Offset injection timing (Columns 6) | B14: 35 | C14: crank deg
A15: Offset injection timing (Columns 7) | B15: 42 | C15: crank deg
A16: Offset injection timing (Columns 8) | B16: 49 | C16: crank deg
A17: Offset injection timing (Columns 9) | B17: 49 | C17: crank deg
A18: Offset injection timing (Columns 10) | B18: 49 | C18: crank deg
A19: Offset injection timing (Columns 11) | B19: 49 | C19: crank deg
A20: Offset injection timing (Columns 12) | B20: 49 | C20: crank deg
A24: Legend : | B24: User input
B25: Calculated DO NOT EDIT
B26: Not needed

Sheet Timing tables
A1: 12 x 12 Injection effective PW (ms)
A3: 240 | B3: 2 | C3: 4 | D3: 5 | E3: =5 -> 5 | F3: 5 | G3: 5 | H3: 5 | I3: 7 | J3: 9 | K3: 11 | L3: 13 | M3: 13
A4: 190 | B4: 2 | C4: 4 | D4: 5 | E4: 5 | F4: 5 | G4: 5 | H4: 5 | I4: 7 | J4: 9 | K4: 11 | L4: 13 | M4: 13
A5: 145 | B5: 2 | C5: 4 | D5: 5 | E5: 5 | F5: 5 | G5: 5 | H5: 5 | I5: 7 | J5: 9 | K5: 11 | L5: 13 | M5: 13
A6: 100 | B6: 2 | C6: 4 | D6: 5 | E6: 5 | F6: 5 | G6: 5 | H6: 5 | I6: 7 | J6: 9 | K6: 11 | L6: 13 | M6: 13
A7: 90 | B7: 2 | C7: 4 | D7: 5 | E7: 5 | F7: 5 | G7: 5 | H7: 5 | I7: 7 | J7: 9 | K7: 11 | L7: 13 | M7: 13
A8: 80 | B8: 2 | C8: 4 | D8: 5 | E8: 5 | F8: 5 | G8: 5 | H8: 5 | I8: 7 | J8: 9 | K8: 11 | L8: 13 | M8: 13
A9: 70 | B9: 2 | C9: 4 | D9: 5 | E9: 5 | F9: 5 | G9: 5 | H9: 5 | I9: 7 | J9: 9 | K9: 11 | L9: 13 | M9: 13
A10: 60 | B10: 2 | C10: 4 | D10: 5 | E10: 5 | F10: 5 | G10: 5 | H10: 5 | I10: 7 | J10: 9 | K10: 11 | L10: 13 | M10: 13
A11: 50 | B11: 2 | C11: 4 | D11: 5 | E11: 5 | F11: 5 | G11: 5 | H11: 5 | I11: 7 | J11: 9 | K11: 11 | L11: 13 | M11: 13
A12: 40 | B12: 2 | C12: 4 | D12: 5 | E12: 5 | F12: 5 | G12: 5 | H12: 5 | I12: 7 | J12: 9 | K12: 11 | L12: 13 | M12: 13
A13: 30 | B13: 2 | C13: 4 | D13: 5 | E13: 5 | F13: 5 | G13: 5 | H13: 5 | I13: 7 | J13: 9 | K13: 11 | L13: 13 | M13: 13
A14: 20 | B14: 2 | C14: 4 | D14: 5 | E14: 5 | F14: 5 | G14: 5 | H14: 5 | I14: 7 | J14: 9 | K14: 11 | L14: 13 | M14: 13
A15: kPa/RPM | B15: 600 | C15: 1300 | D15: 1700 | E15: 2400 | F15: 3100 | G15: 3800 | H15: 4500 | I15: 5200 | J15: 5900 | K15: 6600 | L15: 7300 | M15: 8000
A17: 12 x 12 Injection duration (°)
A19: =$A$3 -> 240 | B19: =((((B$31/60)*2*PI())/1000)*(180/PI()))*B$14 -> 7.2 | C19: =((((C$31/60)*2*PI())/1000)*(180/PI()))*C$14 -> 31.2 | D19: =((((D$31/60)*2*PI())/1000)*(180/PI()))*D$14 -> 51 | E19: =((((E$31/60)*2*PI())/1000)*(180/PI()))*E$14 -> 72 | F19: =((((F$31/60)*2*PI())/1000)*(180/PI()))*F$14 -> 93 | G19: =((((G$31/60)*2*PI())/1000)*(180/PI()))*G$14 -> 114 | H19: =((((H$31/60)*2*PI())/1000)*(180/PI()))*H$14 -> 135 | I19: =((((I$31/60)*2*PI())/1000)*(180/PI()))*I$14 -> 218.4 | ... M19: =((((M$31/60)*2*PI())/1000)*(180/PI()))*M$14 -> 624
A20: =$A$4 -> 190 | B20: =((((B$31/60)*2*PI())/1000)*(180/PI()))*B$14 -> 7.2 | C20: =((((C$31/60)*2*PI())/1000)*(180/PI()))*C$14 -> 31.2 | D20: =((((D$31/60)*2*PI())/1000)*(180/PI()))*D$14 -> 51 | E20: =((((E$31/60)*2*PI())/1000)*(180/PI()))*E$14 -> 72 | F20: =((((F$31/60)*2*PI())/1000)*(180/PI()))*F$14 -> 93 | G20: =((((G$31/60)*2*PI())/1000)*(180/PI()))*G$14 -> 114 | H20: =((((H$31/60)*2*PI())/1000)*(180/PI()))*H$14 -> 135 | I20: =((((I$31/60)*2*PI())/1000)*(180/PI()))*I$14 -> 218.4 | ... M20: =((((M$31/60)*2*PI())/1000)*(180/PI()))*M$14 -> 624
A21: =$A$5 -> 145 | B21: =((((B$31/60)*2*PI())/1000)*(180/PI()))*B$14 -> 7.2 | C21: =((((C$31/60)*2*PI())/1000)*(180/PI()))*C$14 -> 31.2 | D21: =((((D$31/60)*2*PI())/1000)*(180/PI()))*D$14 -> 51 | E21: =((((E$31/60)*2*PI())/1000)*(180/PI()))*E$14 -> 72 | F21: =((((F$31/60)*2*PI())/1000)*(180/PI()))*F$14 -> 93 | G21: =((((G$31/60)*2*PI())/1000)*(180/PI()))*G$14 -> 114 | H21: =((((H$31/60)*2*PI())/1000)*(180/PI()))*H$14 -> 135 | I21: =((((I$31/60)*2*PI())/1000)*(180/PI()))*I$14 -> 218.4 | ... M21: =((((M$31/60)*2*PI())/1000)*(180/PI()))*M$14 -> 624
A22: =$A$6 -> 100 | B22: =((((B$31/60)*2*PI())/1000)*(180/PI()))*B$14 -> 7.2 | C22: =((((C$31/60)*2*PI())/1000)*(180/PI()))*C$14 -> 31.2 | D22: =((((D$31/60)*2*PI())/1000)*(180/PI()))*D$14 -> 51 | E22: =((((E$31/60)*2*PI())/1000)*(180/PI()))*E$14 -> 72 | F22: =((((F$31/60)*2*PI())/1000)*(180/PI()))*F$14 -> 93 | G22: =((((G$31/60)*2*PI())/1000)*(180/PI()))*G$14 -> 114 | H22: =((((H$31/60)*2*PI())/1000)*(180/PI()))*H$14 -> 135 | I22: =((((I$31/60)*2*PI())/1000)*(180/PI()))*I$14 -> 218.4 | ... M22: =((((M$31/60)*2*PI())/1000)*(180/PI()))*M$14 -> 624
A23: =$A$7 -> 90 | B23: =((((B$31/60)*2*PI())/1000)*(180/PI()))*B$14 -> 7.2 | C23: =((((C$31/60)*2*PI())/1000)*(180/PI()))*C$14 -> 31.2 | D23: =((((D$31/60)*2*PI())/1000)*(180/PI()))*D$14 -> 51 | E23: =((((E$31/60)*2*PI())/1000)*(180/PI()))*E$14 -> 72 | F23: =((((F$31/60)*2*PI())/1000)*(180/PI()))*F$14 -> 93 | G23: =((((G$31/60)*2*PI())/1000)*(180/PI()))*G$14 -> 114 | H23: =((((H$31/60)*2*PI())/1000)*(180/PI()))*H$14 -> 135 | I23: =((((I$31/60)*2*PI())/1000)*(180/PI()))*I$14 -> 218.4 | ... M23: =((((M$31/60)*2*PI())/1000)*(180/PI()))*M$14 -> 624
A24: =$A$8 -> 80 | B24: =((((B$31/60)*2*PI())/1000)*(180/PI()))*B$14 -> 7.2 | C24: =((((C$31/60)*2*PI())/1000)*(180/PI()))*C$14 -> 31.2 | D24: =((((D$31/60)*2*PI())/1000)*(180/PI()))*D$14 -> 51 | E24: =((((E$31/60)*2*PI())/1000)*(180/PI()))*E$14 -> 72 | F24: =((((F$31/60)*2*PI())/1000)*(180/PI()))*F$14 -> 93 | G24: =((((G$31/60)*2*PI())/1000)*(180/PI()))*G$14 -> 114 | H24: =((((H$31/60)*2*PI())/1000)*(180/PI()))*H$14 -> 135 | I24: =((((I$31/60)*2*PI())/1000)*(180/PI()))*I$14 -> 218.4 | ... M24: =((((M$31/60)*2*PI())/1000)*(180/PI()))*M$14 -> 624
A25: =$A$9 -> 70 | B25: =((((B$31/60)*2*PI())/1000)*(180/PI()))*B$14 -> 7.2 | C25: =((((C$31/60)*2*PI())/1000)*(180/PI()))*C$14 -> 31.2 | D25: =((((D$31/60)*2*PI())/1000)*(180/PI()))*D$14 -> 51 | E25: =((((E$31/60)*2*PI())/1000)*(180/PI()))*E$14 -> 72 | F25: =((((F$31/60)*2*PI())/1000)*(180/PI()))*F$14 -> 93 | G25: =((((G$31/60)*2*PI())/1000)*(180/PI()))*G$14 -> 114 | H25: =((((H$31/60)*2*PI())/1000)*(180/PI()))*H$14 -> 135 | I25: =((((I$31/60)*2*PI())/1000)*(180/PI()))*I$14 -> 218.4 | ... M25: =((((M$31/60)*2*PI())/1000)*(180/PI()))*M$14 -> 624
A26: =$A$10 -> 60 | B26: =((((B$31/60)*2*PI())/1000)*(180/PI()))*B$14 -> 7.2 | C26: =((((C$31/60)*2*PI())/1000)*(180/PI()))*C$14 -> 31.2 | D26: =((((D$31/60)*2*PI())/1000)*(180/PI()))*D$14 -> 51 | E26: =((((E$31/60)*2*PI())/1000)*(180/PI()))*E$14 -> 72 | F26: =((((F$31/60)*2*PI())/1000)*(180/PI()))*F$14 -> 93 | G26: =((((G$31/60)*2*PI())/1000)*(180/PI()))*G$14 -> 114 | H26: =((((H$31/60)*2*PI())/1000)*(180/PI()))*H$14 -> 135 | I26: =((((I$31/60)*2*PI())/1000)*(180/PI()))*I$14 -> 218.4 | ... M26: =((((M$31/60)*2*PI())/1000)*(180/PI()))*M$14 -> 624
A27: =$A$11 -> 50 | B27: =((((B$31/60)*2*PI())/1000)*(180/PI()))*B$14 -> 7.2 | C27: =((((C$31/60)*2*PI())/1000)*(180/PI()))*C$14 -> 31.2 | D27: =((((D$31/60)*2*PI())/1000)*(180/PI()))*D$14 -> 51 | E27: =((((E$31/60)*2*PI())/1000)*(180/PI()))*E$14 -> 72 | F27: =((((F$31/60)*2*PI())/1000)*(180/PI()))*F$14 -> 93 | G27: =((((G$31/60)*2*PI())/1000)*(180/PI()))*G$14 -> 114 | H27: =((((H$31/60)*2*PI())/1000)*(180/PI()))*H$14 -> 135 | I27: =((((I$31/60)*2*PI())/1000)*(180/PI()))*I$14 -> 218.4 | ... M27: =((((M$31/60)*2*PI())/1000)*(180/PI()))*M$14 -> 624
A28: =$A$12 -> 40 | B28: =((((B$31/60)*2*PI())/1000)*(180/PI()))*B$14 -> 7.2 | C28: =((((C$31/60)*2*PI())/1000)*(180/PI()))*C$14 -> 31.2 | D28: =((((D$31/60)*2*PI())/1000)*(180/PI()))*D$14 -> 51 | E28: =((((E$31/60)*2*PI())/1000)*(180/PI()))*E$14 -> 72 | F28: =((((F$31/60)*2*PI())/1000)*(180/PI()))*F$14 -> 93 | G28: =((((G$31/60)*2*PI())/1000)*(180/PI()))*G$14 -> 114 | H28: =((((H$31/60)*2*PI())/1000)*(180/PI()))*H$14 -> 135 | I28: =((((I$31/60)*2*PI())/1000)*(180/PI()))*I$14 -> 218.4 | ... M28: =((((M$31/60)*2*PI())/1000)*(180/PI()))*M$14 -> 624
A29: =$A$13 -> 30 | B29: =((((B$31/60)*2*PI())/1000)*(180/PI()))*B$14 -> 7.2 | C29: =((((C$31/60)*2*PI())/1000)*(180/PI()))*C$14 -> 31.2 | D29: =((((D$31/60)*2*PI())/1000)*(180/PI()))*D$14 -> 51 | E29: =((((E$31/60)*2*PI())/1000)*(180/PI()))*E$14 -> 72 | F29: =((((F$31/60)*2*PI())/1000)*(180/PI()))*F$14 -> 93 | G29: =((((G$31/60)*2*PI())/1000)*(180/PI()))*G$14 -> 114 | H29: =((((H$31/60)*2*PI())/1000)*(180/PI()))*H$14 -> 135 | I29: =((((I$31/60)*2*PI())/1000)*(180/PI()))*I$14 -> 218.4 | ... M29: =((((M$31/60)*2*PI())/1000)*(180/PI()))*M$14 -> 624
A30: =$A$14 -> 20 | B30: =((((B$31/60)*2*PI())/1000)*(180/PI()))*B$14 -> 7.2 | C30: =((((C$31/60)*2*PI())/1000)*(180/PI()))*C$14 -> 31.2 | D30: =((((D$31/60)*2*PI())/1000)*(180/PI()))*D$14 -> 51 | E30: =((((E$31/60)*2*PI())/1000)*(180/PI()))*E$14 -> 72 | F30: =((((F$31/60)*2*PI())/1000)*(180/PI()))*F$14 -> 93 | G30: =((((G$31/60)*2*PI())/1000)*(180/PI()))*G$14 -> 114 | H30: =((((H$31/60)*2*PI())/1000)*(180/PI()))*H$14 -> 135 | I30: =((((I$31/60)*2*PI())/1000)*(180/PI()))*I$14 -> 218.4 | ... M30: =((((M$31/60)*2*PI())/1000)*(180/PI()))*M$14 -> 624
A31: kPa/RPM | B31: =$B$15 -> 600 | C31: =$C$15 -> 1300 | D31: =$D$15 -> 1700 | E31: =$E$15 -> 2400 | F31: =$F$15 -> 3100 | G31: =$G$15 -> 3800 | H31: =$H$15 -> 4500 | I31: =$I$15 -> 5200 | J31: =$J$15 -> 5900 | K31: =$K$15 -> 6600 | L31: =$L$15 -> 7300 | M31: =$M$15 -> 8000
A33: 12 x 12 Injection timing (°BTDC) (End-of-pulse)
A35: =$A$3 -> 240 | B35: =Values!$B$3+Values!$B$9 -> 370 | C35: =Values!$B$3+Values!$B$10 -> 377 | D35: =Values!$B$3+Values!$B$11 -> 381 | E35: =Values!$B$3+Values!$B$12 -> 394 | F35: =Values!$B$3+Values!$B$13 -> 395 | G35: =Values!$B$3+Values!$B$14 -> 402 | H35: =Values!$B$3+Values!$B$15 -> 409 | I35: =Values!$B$3+Values!$B$16 -> 416 | J35: =Values!$B$3+Values!$B$17 -> 416 | K35: =Values!$B$3+Values!$B$18 -> 416 | L35: =Values!$B$3+Values!$B$19 -> 416 | M35: =Values!$B$3+Values!$B$20 -> 416
A36: =$A$4 -> 190 | B36: =Values!$B$3+Values!$B$9 -> 370 | C36: =Values!$B$3+Values!$B$10 -> 377 | D36: =Values!$B$3+Values!$B$11 -> 381 | E36: =Values!$B$3+Values!$B$12 -> 394 | F36: =Values!$B$3+Values!$B$13 -> 395 | G36: =Values!$B$3+Values!$B$14 -> 402 | H36: =Values!$B$3+Values!$B$15 -> 409 | I36: =Values!$B$3+Values!$B$16 -> 416 | J36: =Values!$B$3+Values!$B$17 -> 416 | K36: =Values!$B$3+Values!$B$18 -> 416 | L36: =Values!$B$3+Values!$B$19 -> 416 | M36: =Values!$B$3+Values!$B$20 -> 416
A37: =$A$5 -> 145 | B37: =Values!$B$3+Values!$B$9 -> 370 | C37: =Values!$B$3+Values!$B$10 -> 377 | D37: =Values!$B$3+Values!$B$11 -> 381 | E37: =Values!$B$3+Values!$B$12 -> 394 | F37: =Values!$B$3+Values!$B$13 -> 395 | G37: =Values!$B$3+Values!$B$14 -> 402 | H37: =Values!$B$3+Values!$B$15 -> 409 | I37: =Values!$B$3+Values!$B$16 -> 416 | J37: =Values!$B$3+Values!$B$17 -> 416 | K37: =Values!$B$3+Values!$B$18 -> 416 | L37: =Values!$B$3+Values!$B$19 -> 416 | M37: =Values!$B$3+Values!$B$20 -> 416
A38: =$A$6 -> 100 | B38: =Values!$B$3+Values!$B$9 -> 370 | C38: =Values!$B$3+Values!$B$10 -> 377 | D38: =Values!$B$3+Values!$B$11 -> 381 | E38: =Values!$B$3+Values!$B$12 -> 394 | F38: =Values!$B$3+Values!$B$13 -> 395 | G38: =Values!$B$3+Values!$B$14 -> 402 | H38: =Values!$B$3+Values!$B$15 -> 409 | I38: =Values!$B$3+Values!$B$16 -> 416 | J38: =Values!$B$3+Values!$B$17 -> 416 | K38: =Values!$B$3+Values!$B$18 -> 416 | L38: =Values!$B$3+Values!$B$19 -> 416 | M38: =Values!$B$3+Values!$B$20 -> 416
A39: =$A$7 -> 90 | B39: =Values!$B$3+Values!$B$9 -> 370 | C39: =Values!$B$3+Values!$B$10 -> 377 | D39: =Values!$B$3+Values!$B$11 -> 381 | E39: =Values!$B$3+Values!$B$12 -> 394 | F39: =Values!$B$3+Values!$B$13 -> 395 | G39: =Values!$B$3+Values!$B$14 -> 402 | H39: =Values!$B$3+Values!$B$15 -> 409 | I39: =Values!$B$3+Values!$B$16 -> 416 | J39: =Values!$B$3+Values!$B$17 -> 416 | K39: =Values!$B$3+Values!$B$18 -> 416 | L39: =Values!$B$3+Values!$B$19 -> 416 | M39: =Values!$B$3+Values!$B$20 -> 416
A40: =$A$8 -> 80 | B40: =Values!$B$3+Values!$B$9 -> 370 | C40: =Values!$B$3+Values!$B$10 -> 377 | D40: =Values!$B$3+Values!$B$11 -> 381 | E40: =Values!$B$3+Values!$B$12 -> 394 | F40: =Values!$B$3+Values!$B$13 -> 395 | G40: =Values!$B$3+Values!$B$14 -> 402 | H40: =Values!$B$3+Values!$B$15 -> 409 | I40: =Values!$B$3+Values!$B$16 -> 416 | J40: =Values!$B$3+Values!$B$17 -> 416 | K40: =Values!$B$3+Values!$B$18 -> 416 | L40: =Values!$B$3+Values!$B$19 -> 416 | M40: =Values!$B$3+Values!$B$20 -> 416
A41: =$A$9 -> 70 | B41: =Values!$B$3+Values!$B$9 -> 370 | C41: =Values!$B$3+Values!$B$10 -> 377 | D41: =Values!$B$3+Values!$B$11 -> 381 | E41: =Values!$B$3+Values!$B$12 -> 394 | F41: =Values!$B$3+Values!$B$13 -> 395 | G41: =Values!$B$3+Values!$B$14 -> 402 | H41: =Values!$B$3+Values!$B$15 -> 409 | I41: =Values!$B$3+Values!$B$16 -> 416 | J41: =Values!$B$3+Values!$B$17 -> 416 | K41: =Values!$B$3+Values!$B$18 -> 416 | L41: =Values!$B$3+Values!$B$19 -> 416 | M41: =Values!$B$3+Values!$B$20 -> 416
A42: =$A$10 -> 60 | B42: =Values!$B$3+Values!$B$9 -> 370 | C42: =Values!$B$3+Values!$B$10 -> 377 | D42: =Values!$B$3+Values!$B$11 -> 381 | E42: =Values!$B$3+Values!$B$12 -> 394 | F42: =Values!$B$3+Values!$B$13 -> 395 | G42: =Values!$B$3+Values!$B$14 -> 402 | H42: =Values!$B$3+Values!$B$15 -> 409 | I42: =Values!$B$3+Values!$B$16 -> 416 | J42: =Values!$B$3+Values!$B$17 -> 416 | K42: =Values!$B$3+Values!$B$18 -> 416 | L42: =Values!$B$3+Values!$B$19 -> 416 | M42: =Values!$B$3+Values!$B$20 -> 416
A43: =$A$11 -> 50 | B43: =Values!$B$3+Values!$B$9 -> 370 | C43: =Values!$B$3+Values!$B$10 -> 377 | D43: =Values!$B$3+Values!$B$11 -> 381 | E43: =Values!$B$3+Values!$B$12 -> 394 | F43: =Values!$B$3+Values!$B$13 -> 395 | G43: =Values!$B$3+Values!$B$14 -> 402 | H43: =Values!$B$3+Values!$B$15 -> 409 | I43: =Values!$B$3+Values!$B$16 -> 416 | J43: =Values!$B$3+Values!$B$17 -> 416 | K43: =Values!$B$3+Values!$B$18 -> 416 | L43: =Values!$B$3+Values!$B$19 -> 416 | M43: =Values!$B$3+Values!$B$20 -> 416
A44: =$A$12 -> 40 | B44: =Values!$B$3+Values!$B$9 -> 370 | C44: =Values!$B$3+Values!$B$10 -> 377 | D44: =Values!$B$3+Values!$B$11 -> 381 | E44: =Values!$B$3+Values!$B$12 -> 394 | F44: =Values!$B$3+Values!$B$13 -> 395 | G44: =Values!$B$3+Values!$B$14 -> 402 | H44: =Values!$B$3+Values!$B$15 -> 409 | I44: =Values!$B$3+Values!$B$16 -> 416 | J44: =Values!$B$3+Values!$B$17 -> 416 | K44: =Values!$B$3+Values!$B$18 -> 416 | L44: =Values!$B$3+Values!$B$19 -> 416 | M44: =Values!$B$3+Values!$B$20 -> 416
A45: =$A$13 -> 30 | B45: =Values!$B$3+Values!$B$9 -> 370 | C45: =Values!$B$3+Values!$B$10 -> 377 | D45: =Values!$B$3+Values!$B$11 -> 381 | E45: =Values!$B$3+Values!$B$12 -> 394 | F45: =Values!$B$3+Values!$B$13 -> 395 | G45: =Values!$B$3+Values!$B$14 -> 402 | H45: =Values!$B$3+Values!$B$15 -> 409 | I45: =Values!$B$3+Values!$B$16 -> 416 | J45: =Values!$B$3+Values!$B$17 -> 416 | K45: =Values!$B$3+Values!$B$18 -> 416 | L45: =Values!$B$3+Values!$B$19 -> 416 | M45: =Values!$B$3+Values!$B$20 -> 416
...
